Package: scMerge Version: 1.16.0 Command: /home/biocbuild/bbs-3.17-bioc/R/bin/R CMD build --keep-empty-dirs --no-resave-data scMerge StartedAt: 2023-10-15 18:24:54 -0400 (Sun, 15 Oct 2023) EndedAt: 2023-10-15 18:26:55 -0400 (Sun, 15 Oct 2023) EllapsedTime: 120.8 seconds RetCode: 0 Status: OK PackageFile: scMerge_1.16.0.tar.gz PackageFileSize: 2.83 MiB