Package: scHOT Version: 1.12.0 Command: /Library/Frameworks/R.framework/Resources/bin/R CMD check --install=check:scHOT.install-out.txt --library=/Library/Frameworks/R.framework/Resources/library --no-vignettes --timings scHOT_1.12.0.tar.gz StartedAt: 2023-10-16 06:43:05 -0400 (Mon, 16 Oct 2023) EndedAt: 2023-10-16 06:56:26 -0400 (Mon, 16 Oct 2023) EllapsedTime: 800.5 seconds RetCode: 0 Status: OK CheckDir: scHOT.Rcheck Warnings: 0