Package: scGPS Version: 1.14.1 Command: F:\biocbuild\bbs-3.17-bioc\R\bin\R.exe CMD INSTALL scGPS StartedAt: 2023-10-15 16:47:57 -0400 (Sun, 15 Oct 2023) EndedAt: 2023-10-15 16:49:17 -0400 (Sun, 15 Oct 2023) EllapsedTime: 80.3 seconds RetCode: 0 Status: OK