Package: scGPS Version: 1.14.1 Command: F:\biocbuild\bbs-3.17-bioc\R\bin\R.exe CMD check --no-multiarch --install=check:scGPS.install-out.txt --library=F:\biocbuild\bbs-3.17-bioc\R\library --no-vignettes --timings scGPS_1.14.1.tar.gz StartedAt: 2023-10-16 06:30:21 -0400 (Mon, 16 Oct 2023) EndedAt: 2023-10-16 06:36:37 -0400 (Mon, 16 Oct 2023) EllapsedTime: 376.1 seconds RetCode: 0 Status: OK CheckDir: scGPS.Rcheck Warnings: 0