Package: scGPS Version: 1.14.1 Command: chmod a+r scGPS -R && F:\biocbuild\bbs-3.17-bioc\R\bin\R.exe CMD build --keep-empty-dirs --no-resave-data scGPS StartedAt: 2023-10-15 22:06:52 -0400 (Sun, 15 Oct 2023) EndedAt: 2023-10-15 22:12:46 -0400 (Sun, 15 Oct 2023) EllapsedTime: 354.0 seconds RetCode: 0 Status: OK PackageFile: scGPS_1.14.1.tar.gz PackageFileSize: 1.909 MiB