Package: scGPS Version: 1.14.1 Command: rm -rf scGPS.buildbin-libdir && mkdir scGPS.buildbin-libdir && F:\biocbuild\bbs-3.17-bioc\R\bin\R.exe CMD INSTALL --build --library=scGPS.buildbin-libdir scGPS_1.14.1.tar.gz StartedAt: 2023-10-16 09:29:21 -0400 (Mon, 16 Oct 2023) EndedAt: 2023-10-16 09:30:42 -0400 (Mon, 16 Oct 2023) EllapsedTime: 80.5 seconds RetCode: 0 Status: OK PackageFile: scGPS_1.14.1.zip PackageFileSize: 2.848 MiB