Package: scGPS Version: 1.14.1 Command: /home/biocbuild/bbs-3.17-bioc/R/bin/R CMD INSTALL scGPS StartedAt: 2023-10-15 15:40:12 -0400 (Sun, 15 Oct 2023) EndedAt: 2023-10-15 15:41:13 -0400 (Sun, 15 Oct 2023) EllapsedTime: 60.6 seconds RetCode: 0 Status: OK