Package: scGPS Version: 1.14.1 Command: /home/biocbuild/bbs-3.17-bioc/R/bin/R CMD check --install=check:scGPS.install-out.txt --library=/home/biocbuild/bbs-3.17-bioc/R/site-library --timings scGPS_1.14.1.tar.gz StartedAt: 2023-10-16 00:50:23 -0400 (Mon, 16 Oct 2023) EndedAt: 2023-10-16 00:59:52 -0400 (Mon, 16 Oct 2023) EllapsedTime: 568.8 seconds RetCode: 0 Status: OK CheckDir: scGPS.Rcheck Warnings: 0