Package: scGPS Version: 1.14.1 Command: /home/biocbuild/bbs-3.17-bioc/R/bin/R CMD build --keep-empty-dirs --no-resave-data scGPS StartedAt: 2023-10-15 18:24:13 -0400 (Sun, 15 Oct 2023) EndedAt: 2023-10-15 18:29:05 -0400 (Sun, 15 Oct 2023) EllapsedTime: 291.8 seconds RetCode: 0 Status: OK PackageFile: scGPS_1.14.1.tar.gz PackageFileSize: 2 MiB