Package: scGPS Version: 1.14.1 Command: /Library/Frameworks/R.framework/Resources/bin/R CMD check --install=check:scGPS.install-out.txt --library=/Library/Frameworks/R.framework/Resources/library --no-vignettes --timings scGPS_1.14.1.tar.gz StartedAt: 2023-10-16 06:42:52 -0400 (Mon, 16 Oct 2023) EndedAt: 2023-10-16 06:59:46 -0400 (Mon, 16 Oct 2023) EllapsedTime: 1014.7 seconds RetCode: 0 Status: OK CheckDir: scGPS.Rcheck Warnings: 0