Package: scGPS Version: 1.14.1 Command: /Library/Frameworks/R.framework/Resources/bin/R CMD build --keep-empty-dirs --no-resave-data scGPS StartedAt: 2023-10-15 21:01:38 -0400 (Sun, 15 Oct 2023) EndedAt: 2023-10-15 21:17:50 -0400 (Sun, 15 Oct 2023) EllapsedTime: 971.9 seconds RetCode: 0 Status: OK PackageFile: scGPS_1.14.1.tar.gz PackageFileSize: 2.001 MiB