Package: scGPS Version: 1.14.1 Command: rm -rf scGPS.buildbin-libdir && mkdir scGPS.buildbin-libdir && /Users/biocbuild/BBS/utils/build-universal.sh scGPS_1.14.1.tar.gz /Library/Frameworks/R.framework/Resources/bin/R scGPS.buildbin-libdir StartedAt: 2023-10-16 10:10:05 -0400 (Mon, 16 Oct 2023) EndedAt: 2023-10-16 10:13:38 -0400 (Mon, 16 Oct 2023) EllapsedTime: 213.0 seconds RetCode: 0 Status: OK PackageFile: scGPS_1.14.1.tgz PackageFileSize: 2.632 MiB