Package: scFeatures Version: 1.0.0 Command: /Library/Frameworks/R.framework/Resources/bin/R CMD INSTALL scFeatures StartedAt: 2023-10-15 16:24:47 -0400 (Sun, 15 Oct 2023) EndedAt: 2023-10-15 16:28:11 -0400 (Sun, 15 Oct 2023) EllapsedTime: 203.7 seconds RetCode: 0 Status: OK