Package: scFeatures Version: 1.0.0 Command: /Library/Frameworks/R.framework/Resources/bin/R CMD build --keep-empty-dirs --no-resave-data scFeatures StartedAt: 2023-10-15 21:01:27 -0400 (Sun, 15 Oct 2023) EndedAt: 2023-10-15 21:09:23 -0400 (Sun, 15 Oct 2023) EllapsedTime: 476.0 seconds RetCode: 0 Status: OK PackageFile: scFeatures_1.0.0.tar.gz PackageFileSize: 2.945 MiB