git_url: https://git.bioconductor.org/packages/scFeatureFilter git_branch: RELEASE_3_17 git_last_commit: d781e2c git_last_commit_date: 2023-04-25 10:58:38 -0400 (Tue, 25 Apr 2023) Package: scFeatureFilter Version: 1.20.0 Maintainer: Guillaume Devailly MaintainerEmail: gdevailly at hotmail.com