Package: scDblFinder Version: 1.14.0 Command: F:\biocbuild\bbs-3.17-bioc\R\bin\R.exe CMD check --no-multiarch --install=check:scDblFinder.install-out.txt --library=F:\biocbuild\bbs-3.17-bioc\R\library --no-vignettes --timings scDblFinder_1.14.0.tar.gz StartedAt: 2023-10-16 06:27:23 -0400 (Mon, 16 Oct 2023) EndedAt: 2023-10-16 06:33:14 -0400 (Mon, 16 Oct 2023) EllapsedTime: 351.2 seconds RetCode: 0 Status: OK CheckDir: scDblFinder.Rcheck Warnings: 0