Package: scDblFinder Version: 1.14.0 Command: rm -rf scDblFinder.buildbin-libdir && mkdir scDblFinder.buildbin-libdir && F:\biocbuild\bbs-3.17-bioc\R\bin\R.exe CMD INSTALL --build --library=scDblFinder.buildbin-libdir scDblFinder_1.14.0.tar.gz StartedAt: 2023-10-16 09:28:57 -0400 (Mon, 16 Oct 2023) EndedAt: 2023-10-16 09:29:46 -0400 (Mon, 16 Oct 2023) EllapsedTime: 48.8 seconds RetCode: 0 Status: OK PackageFile: scDblFinder_1.14.0.zip PackageFileSize: 2.045 MiB