Package: scDblFinder Version: 1.14.0 Command: /home/biocbuild/bbs-3.17-bioc/R/bin/R CMD INSTALL scDblFinder StartedAt: 2023-10-15 15:43:07 -0400 (Sun, 15 Oct 2023) EndedAt: 2023-10-15 15:43:49 -0400 (Sun, 15 Oct 2023) EllapsedTime: 42.0 seconds RetCode: 0 Status: OK