Package: scDblFinder Version: 1.14.0 Command: rm -rf scDblFinder.buildbin-libdir && mkdir scDblFinder.buildbin-libdir && /Users/biocbuild/BBS/utils/build-universal.sh scDblFinder_1.14.0.tar.gz /Library/Frameworks/R.framework/Resources/bin/R scDblFinder.buildbin-libdir StartedAt: 2023-10-16 10:09:18 -0400 (Mon, 16 Oct 2023) EndedAt: 2023-10-16 10:11:50 -0400 (Mon, 16 Oct 2023) EllapsedTime: 152.2 seconds RetCode: 0 Status: OK PackageFile: scDblFinder_1.14.0.tgz PackageFileSize: 2.337 MiB