Package: scDataviz Version: 1.10.0 Command: F:\biocbuild\bbs-3.17-bioc\R\bin\R.exe CMD INSTALL scDataviz StartedAt: 2023-10-15 16:44:29 -0400 (Sun, 15 Oct 2023) EndedAt: 2023-10-15 16:45:08 -0400 (Sun, 15 Oct 2023) EllapsedTime: 38.7 seconds RetCode: 0 Status: OK