Package: scDataviz Version: 1.10.0 Command: rm -rf scDataviz.buildbin-libdir && mkdir scDataviz.buildbin-libdir && F:\biocbuild\bbs-3.17-bioc\R\bin\R.exe CMD INSTALL --build --library=scDataviz.buildbin-libdir scDataviz_1.10.0.tar.gz StartedAt: 2023-10-16 09:28:55 -0400 (Mon, 16 Oct 2023) EndedAt: 2023-10-16 09:29:35 -0400 (Mon, 16 Oct 2023) EllapsedTime: 40.0 seconds RetCode: 0 Status: OK PackageFile: scDataviz_1.10.0.zip PackageFileSize: 2.888 MiB