Package: scDataviz Version: 1.10.0 Command: /Library/Frameworks/R.framework/Resources/bin/R CMD check --install=check:scDataviz.install-out.txt --library=/Library/Frameworks/R.framework/Resources/library --no-vignettes --timings scDataviz_1.10.0.tar.gz StartedAt: 2023-10-16 06:41:14 -0400 (Mon, 16 Oct 2023) EndedAt: 2023-10-16 06:50:54 -0400 (Mon, 16 Oct 2023) EllapsedTime: 579.5 seconds RetCode: 0 Status: OK CheckDir: scDataviz.Rcheck Warnings: 0