Package: scDataviz Version: 1.10.0 Command: /Library/Frameworks/R.framework/Resources/bin/R CMD build --keep-empty-dirs --no-resave-data scDataviz StartedAt: 2023-10-15 20:59:50 -0400 (Sun, 15 Oct 2023) EndedAt: 2023-10-15 21:10:48 -0400 (Sun, 15 Oct 2023) EllapsedTime: 657.9 seconds RetCode: 0 Status: OK PackageFile: scDataviz_1.10.0.tar.gz PackageFileSize: 7.677 MiB