Package: scDD Version: 1.24.0 Command: F:\biocbuild\bbs-3.17-bioc\R\bin\R.exe CMD check --no-multiarch --install=check:scDD.install-out.txt --library=F:\biocbuild\bbs-3.17-bioc\R\library --no-vignettes --timings scDD_1.24.0.tar.gz StartedAt: 2023-10-16 06:27:28 -0400 (Mon, 16 Oct 2023) EndedAt: 2023-10-16 06:34:28 -0400 (Mon, 16 Oct 2023) EllapsedTime: 420.1 seconds RetCode: 0 Status: OK CheckDir: scDD.Rcheck Warnings: 0