Package: scDD Version: 1.24.0 Command: rm -rf scDD.buildbin-libdir && mkdir scDD.buildbin-libdir && F:\biocbuild\bbs-3.17-bioc\R\bin\R.exe CMD INSTALL --build --library=scDD.buildbin-libdir scDD_1.24.0.tar.gz StartedAt: 2023-10-16 09:29:07 -0400 (Mon, 16 Oct 2023) EndedAt: 2023-10-16 09:29:49 -0400 (Mon, 16 Oct 2023) EllapsedTime: 41.5 seconds RetCode: 0 Status: OK PackageFile: scDD_1.24.0.zip PackageFileSize: 1.001 MiB