Package: scDD Version: 1.24.0 Command: /Library/Frameworks/R.framework/Resources/bin/R CMD INSTALL scDD StartedAt: 2023-10-15 16:21:17 -0400 (Sun, 15 Oct 2023) EndedAt: 2023-10-15 16:23:08 -0400 (Sun, 15 Oct 2023) EllapsedTime: 111.0 seconds RetCode: 0 Status: OK