Package: scBubbletree Version: 1.2.0 Command: rm -rf scBubbletree.buildbin-libdir && mkdir scBubbletree.buildbin-libdir && F:\biocbuild\bbs-3.17-bioc\R\bin\R.exe CMD INSTALL --build --library=scBubbletree.buildbin-libdir scBubbletree_1.2.0.tar.gz StartedAt: 2023-10-16 09:28:48 -0400 (Mon, 16 Oct 2023) EndedAt: 2023-10-16 09:29:12 -0400 (Mon, 16 Oct 2023) EllapsedTime: 23.2 seconds RetCode: 0 Status: OK PackageFile: scBubbletree_1.2.0.zip PackageFileSize: 1.985 MiB