Package: scBFA Version: 1.14.0 Command: F:\biocbuild\bbs-3.17-bioc\R\bin\R.exe CMD INSTALL scBFA StartedAt: 2023-10-15 16:42:18 -0400 (Sun, 15 Oct 2023) EndedAt: 2023-10-15 16:43:11 -0400 (Sun, 15 Oct 2023) EllapsedTime: 53.2 seconds RetCode: 0 Status: OK