Package: scBFA Version: 1.14.0 Command: chmod a+r scBFA -R && F:\biocbuild\bbs-3.17-bioc\R\bin\R.exe CMD build --keep-empty-dirs --no-resave-data scBFA StartedAt: 2023-10-15 22:03:50 -0400 (Sun, 15 Oct 2023) EndedAt: 2023-10-15 22:05:03 -0400 (Sun, 15 Oct 2023) EllapsedTime: 73.2 seconds RetCode: 0 Status: OK PackageFile: scBFA_1.14.0.tar.gz PackageFileSize: 935 KiB