Package: scBFA Version: 1.14.0 Command: rm -rf scBFA.buildbin-libdir && mkdir scBFA.buildbin-libdir && F:\biocbuild\bbs-3.17-bioc\R\bin\R.exe CMD INSTALL --build --library=scBFA.buildbin-libdir scBFA_1.14.0.tar.gz StartedAt: 2023-10-16 09:28:41 -0400 (Mon, 16 Oct 2023) EndedAt: 2023-10-16 09:29:38 -0400 (Mon, 16 Oct 2023) EllapsedTime: 56.7 seconds RetCode: 0 Status: OK PackageFile: scBFA_1.14.0.zip PackageFileSize: 1009 KiB