Package: scBFA Version: 1.14.0 Command: /home/biocbuild/bbs-3.17-bioc/R/bin/R CMD check --install=check:scBFA.install-out.txt --library=/home/biocbuild/bbs-3.17-bioc/R/site-library --timings scBFA_1.14.0.tar.gz StartedAt: 2023-10-16 00:46:19 -0400 (Mon, 16 Oct 2023) EndedAt: 2023-10-16 00:52:25 -0400 (Mon, 16 Oct 2023) EllapsedTime: 365.7 seconds RetCode: 0 Status: OK CheckDir: scBFA.Rcheck Warnings: 0