Package: scBFA Version: 1.14.0 Command: /home/biocbuild/bbs-3.17-bioc/R/bin/R CMD build --keep-empty-dirs --no-resave-data scBFA StartedAt: 2023-10-15 18:21:59 -0400 (Sun, 15 Oct 2023) EndedAt: 2023-10-15 18:23:15 -0400 (Sun, 15 Oct 2023) EllapsedTime: 76.0 seconds RetCode: 0 Status: OK PackageFile: scBFA_1.14.0.tar.gz PackageFileSize: 1.138 MiB