Package: scAnnotatR Version: 1.6.0 Command: chmod a+r scAnnotatR -R && F:\biocbuild\bbs-3.17-bioc\R\bin\R.exe CMD build --keep-empty-dirs --no-resave-data scAnnotatR StartedAt: 2023-10-15 22:02:28 -0400 (Sun, 15 Oct 2023) EndedAt: 2023-10-15 22:13:43 -0400 (Sun, 15 Oct 2023) EllapsedTime: 675.0 seconds RetCode: 0 Status: OK PackageFile: scAnnotatR_1.6.0.tar.gz PackageFileSize: 453.5 KiB