Package: scAnnotatR Version: 1.6.0 Command: /home/biocbuild/bbs-3.17-bioc/R/bin/R CMD build --keep-empty-dirs --no-resave-data scAnnotatR StartedAt: 2023-10-15 18:21:32 -0400 (Sun, 15 Oct 2023) EndedAt: 2023-10-15 18:31:22 -0400 (Sun, 15 Oct 2023) EllapsedTime: 590.0 seconds RetCode: 0 Status: OK PackageFile: scAnnotatR_1.6.0.tar.gz PackageFileSize: 510.3 KiB