Package: satuRn Version: 1.8.0 Command: chmod a+r satuRn -R && F:\biocbuild\bbs-3.17-bioc\R\bin\R.exe CMD build --keep-empty-dirs --no-resave-data satuRn StartedAt: 2023-10-15 22:01:51 -0400 (Sun, 15 Oct 2023) EndedAt: 2023-10-15 22:03:50 -0400 (Sun, 15 Oct 2023) EllapsedTime: 119.3 seconds RetCode: 0 Status: OK PackageFile: satuRn_1.8.0.tar.gz PackageFileSize: 3.174 MiB