Package: satuRn Version: 1.8.0 Command: /Library/Frameworks/R.framework/Resources/bin/R CMD INSTALL satuRn StartedAt: 2023-10-15 15:31:56 -0400 (Sun, 15 Oct 2023) EndedAt: 2023-10-15 15:33:00 -0400 (Sun, 15 Oct 2023) EllapsedTime: 63.7 seconds RetCode: 0 Status: OK