Package: satuRn Version: 1.8.0 Command: /Library/Frameworks/R.framework/Resources/bin/R CMD build --keep-empty-dirs --no-resave-data satuRn StartedAt: 2023-10-15 20:55:56 -0400 (Sun, 15 Oct 2023) EndedAt: 2023-10-15 20:59:11 -0400 (Sun, 15 Oct 2023) EllapsedTime: 195.0 seconds RetCode: 0 Status: OK PackageFile: satuRn_1.8.0.tar.gz PackageFileSize: 3.542 MiB