Package: satuRn Version: 1.8.0 Command: rm -rf satuRn.buildbin-libdir && mkdir satuRn.buildbin-libdir && /Users/biocbuild/BBS/utils/build-universal.sh satuRn_1.8.0.tar.gz /Library/Frameworks/R.framework/Resources/bin/R satuRn.buildbin-libdir StartedAt: 2023-10-16 10:08:22 -0400 (Mon, 16 Oct 2023) EndedAt: 2023-10-16 10:09:38 -0400 (Mon, 16 Oct 2023) EllapsedTime: 76.7 seconds RetCode: 0 Status: OK PackageFile: satuRn_1.8.0.tgz PackageFileSize: 3.593 MiB