Package: sarks Version: 1.12.0 Command: rm -rf sarks.buildbin-libdir && mkdir sarks.buildbin-libdir && F:\biocbuild\bbs-3.17-bioc\R\bin\R.exe CMD INSTALL --build --library=sarks.buildbin-libdir sarks_1.12.0.tar.gz StartedAt: 2023-10-16 09:27:57 -0400 (Mon, 16 Oct 2023) EndedAt: 2023-10-16 09:28:11 -0400 (Mon, 16 Oct 2023) EllapsedTime: 14.5 seconds RetCode: 0 Status: OK PackageFile: sarks_1.12.0.zip PackageFileSize: 490.7 KiB