Package: sarks Version: 1.12.0 Command: /home/biocbuild/bbs-3.17-bioc/R/bin/R CMD check --install=check:sarks.install-out.txt --library=/home/biocbuild/bbs-3.17-bioc/R/site-library --timings sarks_1.12.0.tar.gz StartedAt: 2023-10-16 00:43:20 -0400 (Mon, 16 Oct 2023) EndedAt: 2023-10-16 00:45:04 -0400 (Mon, 16 Oct 2023) EllapsedTime: 103.6 seconds RetCode: 0 Status: OK CheckDir: sarks.Rcheck Warnings: 0