Package: sarks Version: 1.12.0 Command: /Library/Frameworks/R.framework/Resources/bin/R CMD check --install=check:sarks.install-out.txt --library=/Library/Frameworks/R.framework/Resources/library --no-vignettes --timings sarks_1.12.0.tar.gz StartedAt: 2023-10-16 06:33:13 -0400 (Mon, 16 Oct 2023) EndedAt: 2023-10-16 06:36:59 -0400 (Mon, 16 Oct 2023) EllapsedTime: 225.6 seconds RetCode: 0 Status: OK CheckDir: sarks.Rcheck Warnings: 0