Package: sarks Version: 1.12.0 Command: rm -rf sarks.buildbin-libdir && mkdir sarks.buildbin-libdir && /Users/biocbuild/BBS/utils/build-universal.sh sarks_1.12.0.tar.gz /Library/Frameworks/R.framework/Resources/bin/R sarks.buildbin-libdir StartedAt: 2023-10-16 10:08:22 -0400 (Mon, 16 Oct 2023) EndedAt: 2023-10-16 10:09:01 -0400 (Mon, 16 Oct 2023) EllapsedTime: 39.3 seconds RetCode: 0 Status: OK PackageFile: sarks_1.12.0.tgz PackageFileSize: 778 KiB