Package: sangerseqR Version: 1.36.0 Command: chmod a+r sangerseqR -R && F:\biocbuild\bbs-3.17-bioc\R\bin\R.exe CMD build --keep-empty-dirs --no-resave-data sangerseqR StartedAt: 2023-10-15 22:01:21 -0400 (Sun, 15 Oct 2023) EndedAt: 2023-10-15 22:02:02 -0400 (Sun, 15 Oct 2023) EllapsedTime: 41.3 seconds RetCode: 0 Status: OK PackageFile: sangerseqR_1.36.0.tar.gz PackageFileSize: 1.649 MiB