Package: sangeranalyseR Version: 1.10.0 Command: chmod a+r sangeranalyseR -R && F:\biocbuild\bbs-3.17-bioc\R\bin\R.exe CMD build --keep-empty-dirs --no-resave-data sangeranalyseR StartedAt: 2023-10-15 22:01:15 -0400 (Sun, 15 Oct 2023) EndedAt: 2023-10-15 22:02:20 -0400 (Sun, 15 Oct 2023) EllapsedTime: 65.9 seconds RetCode: 0 Status: OK PackageFile: sangeranalyseR_1.10.0.tar.gz PackageFileSize: 38.15 MiB