Package: sampleClassifier Version: 1.24.0 Command: F:\biocbuild\bbs-3.17-bioc\R\bin\R.exe CMD check --no-multiarch --install=check:sampleClassifier.install-out.txt --library=F:\biocbuild\bbs-3.17-bioc\R\library --no-vignettes --timings sampleClassifier_1.24.0.tar.gz StartedAt: 2023-10-16 06:21:31 -0400 (Mon, 16 Oct 2023) EndedAt: 2023-10-16 06:25:51 -0400 (Mon, 16 Oct 2023) EllapsedTime: 259.6 seconds RetCode: 0 Status: OK CheckDir: sampleClassifier.Rcheck Warnings: 0