Package: sampleClassifier Version: 1.24.0 Command: /home/biocbuild/bbs-3.17-bioc/R/bin/R CMD INSTALL sampleClassifier StartedAt: 2023-10-15 15:21:05 -0400 (Sun, 15 Oct 2023) EndedAt: 2023-10-15 15:21:21 -0400 (Sun, 15 Oct 2023) EllapsedTime: 15.7 seconds RetCode: 0 Status: OK