Package: sampleClassifier Version: 1.24.0 Command: /home/biocbuild/bbs-3.17-bioc/R/bin/R CMD build --keep-empty-dirs --no-resave-data sampleClassifier StartedAt: 2023-10-15 18:20:27 -0400 (Sun, 15 Oct 2023) EndedAt: 2023-10-15 18:22:49 -0400 (Sun, 15 Oct 2023) EllapsedTime: 141.8 seconds RetCode: 0 Status: OK PackageFile: sampleClassifier_1.24.0.tar.gz PackageFileSize: 237.6 KiB