Package: sampleClassifier Version: 1.24.0 Command: /Library/Frameworks/R.framework/Resources/bin/R CMD INSTALL sampleClassifier StartedAt: 2023-10-15 15:30:25 -0400 (Sun, 15 Oct 2023) EndedAt: 2023-10-15 15:31:22 -0400 (Sun, 15 Oct 2023) EllapsedTime: 57.2 seconds RetCode: 0 Status: OK