Package: sagenhaft Version: 1.70.0 Command: chmod a+r sagenhaft -R && F:\biocbuild\bbs-3.17-bioc\R\bin\R.exe CMD build --keep-empty-dirs --no-resave-data sagenhaft StartedAt: 2023-10-15 22:00:57 -0400 (Sun, 15 Oct 2023) EndedAt: 2023-10-15 22:01:09 -0400 (Sun, 15 Oct 2023) EllapsedTime: 12.2 seconds RetCode: 0 Status: OK PackageFile: sagenhaft_1.70.0.tar.gz PackageFileSize: 2.5 MiB