Package: sagenhaft Version: 1.70.0 Command: rm -rf sagenhaft.buildbin-libdir && mkdir sagenhaft.buildbin-libdir && F:\biocbuild\bbs-3.17-bioc\R\bin\R.exe CMD INSTALL --build --library=sagenhaft.buildbin-libdir sagenhaft_1.70.0.tar.gz StartedAt: 2023-10-16 09:27:40 -0400 (Mon, 16 Oct 2023) EndedAt: 2023-10-16 09:27:49 -0400 (Mon, 16 Oct 2023) EllapsedTime: 8.8 seconds RetCode: 0 Status: OK PackageFile: sagenhaft_1.70.0.zip PackageFileSize: 2.573 MiB